BEGIN:VCALENDAR
VERSION:2.0
PRODID:-//S.T.A.R.S. - ECPv6.14.0//NONSGML v1.0//EN
CALSCALE:GREGORIAN
METHOD:PUBLISH
X-ORIGINAL-URL:https://www.research-alliance-for-sustainability.it
X-WR-CALDESC:Events for S.T.A.R.S.
REFRESH-INTERVAL;VALUE=DURATION:PT1H
X-Robots-Tag:noindex
X-PUBLISHED-TTL:PT1H
BEGIN:VTIMEZONE
TZID:Europe/Rome
BEGIN:DAYLIGHT
TZOFFSETFROM:+0100
TZOFFSETTO:+0200
TZNAME:CEST
DTSTART:20260329T010000
END:DAYLIGHT
BEGIN:STANDARD
TZOFFSETFROM:+0200
TZOFFSETTO:+0100
TZNAME:CET
DTSTART:20261025T010000
END:STANDARD
END:VTIMEZONE
BEGIN:VEVENT
DTSTART;TZID=Europe/Rome:20260710T080000
DTEND;TZID=Europe/Rome:20260710T173000
DTSTAMP:20260420T112922
CREATED:20260416T074858Z
LAST-MODIFIED:20260416T074858Z
UID:5261-1783670400-1783704600@www.research-alliance-for-sustainability.it
SUMMARY:ReNoN Project Workshop 2026
DESCRIPTION:Powering the future through smarter\, connected energy systems—discover how integrated networks can accelerate Europe’s path to climate neutrality \nThe ReNON Workshop 2026 aims to explore advanced methodologies\, planning strategies and optimization tools supporting the transition towards decarbonized and resilient energy systems. \nAchieving the European carbon neutrality targets by 2050 requires a profound transformation of traditionally independent infrastructures such as electricity grids\, district heating networks\, water systems\, transportation and energy storage. In this context\, the ReNON project introduces the “Network of Networks” paradigm\, promoting the coordinated integration of multi-energy systems and the active involvement of prosumers and energy communities. \nEvent website: ReNoN Project Workshop 2026 / Free University of Bozen-Bolzano
URL:https://www.research-alliance-for-sustainability.it/event/renon-project-workshop-2026/
LOCATION:UNIBZ – B1.1.01 – NOI Techpark\, via Volta-Voltastrasse 13/A\, Bolzano/Bozen\, South Tyrol\, 39100\, Italy
END:VEVENT
END:VCALENDAR