BEGIN:VCALENDAR
VERSION:2.0
PRODID:-//S.T.A.R.S. - ECPv6.14.0//NONSGML v1.0//EN
CALSCALE:GREGORIAN
METHOD:PUBLISH
X-WR-CALNAME:S.T.A.R.S.
X-ORIGINAL-URL:https://www.research-alliance-for-sustainability.it
X-WR-CALDESC:Events for S.T.A.R.S.
REFRESH-INTERVAL;VALUE=DURATION:PT1H
X-Robots-Tag:noindex
X-PUBLISHED-TTL:PT1H
BEGIN:VTIMEZONE
TZID:Europe/Rome
BEGIN:DAYLIGHT
TZOFFSETFROM:+0100
TZOFFSETTO:+0200
TZNAME:CEST
DTSTART:20230326T010000
END:DAYLIGHT
BEGIN:STANDARD
TZOFFSETFROM:+0200
TZOFFSETTO:+0100
TZNAME:CET
DTSTART:20231029T010000
END:STANDARD
END:VTIMEZONE
BEGIN:VEVENT
DTSTART;TZID=Europe/Rome:20231214T160000
DTEND;TZID=Europe/Rome:20231214T190000
DTSTAMP:20260419T144441
CREATED:20231213T085816Z
LAST-MODIFIED:20231213T085816Z
UID:3429-1702569600-1702580400@www.research-alliance-for-sustainability.it
SUMMARY:L’introduzione di pratiche di sostenibilità nella strategia delle imprese in Alto Adige
DESCRIPTION:Incontro con le imprese – Workshop di Ricerca coordinato dalla Prof. Laura Valle e il Prof. Guido Orzes per la presentazione dei risultati preliminari del progetto SUSTCOTECHCERT. \nL’incontro ha come scopo la presentazione dei risultati preliminari del Progetto di Ricerca finanziato da unibz “Contracts\, technical standards and certification systems for the effective development of sustainable economic relationships” e l’esperienza pratica di alcune imprese che hanno intrapreso un percorso di sostenibilità. Obiettivo dell’incontro è anche quello di trasmettere ad imprese che non hanno ancora messo a punto una strategia di sostenibilità spunti sul quadro economico\, tecnico e normativo che si sta delineando sui parametri ESG in linea con i Sustainable Development Goals (SDGs) dell’ONU\, con la strategia Green Deal dell’Unione europea e con il Piano Clima Alto Adige 2040. \nISCRIZIONE: SIGN IN – L’ introduzione di pratiche di sostenibilità nella strategia delle imprese in Alto Adige (ungerboeck.com) \nPROGRAMMA: 2023-12-14_icontro-Imprese_v3_Flyer.pdf (unibz.it)
URL:https://www.research-alliance-for-sustainability.it/event/lintroduzione-di-pratiche-di-sostenibilita-nella-strategia-delle-imprese-in-alto-adige/
LOCATION:UNIBZ C2.01\, Universitätsplatz 1 - piazza Università\, 1\, Bolzano - Bozen\, South Tyrol\, Italy
END:VEVENT
BEGIN:VEVENT
DTSTART;TZID=Europe/Rome:20231214T170000
DTEND;TZID=Europe/Rome:20231214T190000
DTSTAMP:20260419T144441
CREATED:20231206T084800Z
LAST-MODIFIED:20231206T084800Z
UID:3361-1702573200-1702580400@www.research-alliance-for-sustainability.it
SUMMARY:Life Cycle Assessment of Nature-Based Production Systems
DESCRIPTION:Research Seminar – Rainer Zah\, Director Sustainability Consulting\, EY Switzerland\, highlights the importance of Life Cycle Assessment (LCA) in evaluating nature-based production systems. \nLife Cycle Assessment (LCA) has emerged over the last 20 years as the key methodology to quantify the environmental impacts of products or services along the full value chain – from raw material sourcing\, manufacturing\, transport logistics\, use phase\, until the end-of-life of the product (cradle-to-grave). This presentation will highlight the significance of Life Cycle Assessment (LCA) in evaluating nature-based production systems from the perspective of decision-makers. It explains the general approach of LCA and emphasizes the relevance of different Environmental Impact Assessment (EIA) methods. Best practice examples from forestry and agricultural sector are showcased\, demonstrating successful implementation of sustainable practices. Finally\, the future potential but also the limitations of LCA are discussed including data complexities and the need for standardized methodologies. \n  \nThe research seminar is open to all interested parties.
URL:https://www.research-alliance-for-sustainability.it/event/life-cycle-assessment-of-nature-based-production-systems/
LOCATION:UNIBZ D0.03\, Universitätsplatz 1 - piazza Università\, 1\, Bolzano - Bozen\, South Tyrol\, Italy
END:VEVENT
END:VCALENDAR